BEGIN:VCALENDAR
VERSION:2.0
PRODID:Romaria de N. Sra. do Cabo
X-WR-CALNAME:Romaria de N. Sra. do Cabo
X-WR-TIMEZONE:Europe/Lisbon
X-PUBLISHED-TTL:P1W
BEGIN:VTIMEZONE
TZID:Europe/Lisbon
X-LIC-LOCATION:Europe/Lisbon
END:VTIMEZONE
BEGIN:VEVENT
UID:69e5a85109e67
DTSTART;VALUE=DATE:20260514
SEQUENCE:0
TRANSP:OPAQUE
DTEND;VALUE=DATE:20260515
SUMMARY:Romaria de N. Sra. do Cabo
CLASS:PUBLIC
DESCRIPTION:Missa\, romaria e almoço. Uma organização da Paróquia de S.
  Lourenço de Arranhó.
X-MICROSOFT-CDO-ALLDAYEVENT:TRUE
DTSTAMP:20260420T041513Z
END:VEVENT
END:VCALENDAR